BEGIN:VCALENDAR
VERSION:2.0
PRODID:-//redbibliotecasmunicipalesbadajoz.es - ECPv6.15.18//NONSGML v1.0//EN
CALSCALE:GREGORIAN
METHOD:PUBLISH
X-ORIGINAL-URL:https://redbibliotecasmunicipalesbadajoz.es
X-WR-CALDESC:Eventos para redbibliotecasmunicipalesbadajoz.es
REFRESH-INTERVAL;VALUE=DURATION:PT1H
X-Robots-Tag:noindex
X-PUBLISHED-TTL:PT1H
BEGIN:VTIMEZONE
TZID:Europe/Madrid
BEGIN:DAYLIGHT
TZOFFSETFROM:+0100
TZOFFSETTO:+0200
TZNAME:CEST
DTSTART:20240331T010000
END:DAYLIGHT
BEGIN:STANDARD
TZOFFSETFROM:+0200
TZOFFSETTO:+0100
TZNAME:CET
DTSTART:20241027T010000
END:STANDARD
BEGIN:DAYLIGHT
TZOFFSETFROM:+0100
TZOFFSETTO:+0200
TZNAME:CEST
DTSTART:20250330T010000
END:DAYLIGHT
BEGIN:STANDARD
TZOFFSETFROM:+0200
TZOFFSETTO:+0100
TZNAME:CET
DTSTART:20251026T010000
END:STANDARD
BEGIN:DAYLIGHT
TZOFFSETFROM:+0100
TZOFFSETTO:+0200
TZNAME:CEST
DTSTART:20260329T010000
END:DAYLIGHT
BEGIN:STANDARD
TZOFFSETFROM:+0200
TZOFFSETTO:+0100
TZNAME:CET
DTSTART:20261025T010000
END:STANDARD
END:VTIMEZONE
BEGIN:VEVENT
DTSTART;TZID=Europe/Madrid:20250923T000000
DTEND;TZID=Europe/Madrid:20250925T000000
DTSTAMP:20260422T104604
CREATED:20250910T072226Z
LAST-MODIFIED:20251008T072500Z
UID:1940-1758585600-1758758400@redbibliotecasmunicipalesbadajoz.es
SUMMARY:Taller Informática Básica para niños – Agencia Lectura Alvarado
DESCRIPTION:¡Taller de Informática para niños!\n¿Tú hijo usa sòlo el ordenador para jugar? ¿ Quieres que empiece el cole con una ventaja extra?\nEn este taller aprenderà:\nManejo básico de Word\nPrincipios de informática básica.\nBiblioteca de Alvarado\n23 y 25 de Septiembre\nA partir de 6 años.\n\n\nReserva tu plaza en 924/431071 o personalmente en la biblioteca.
URL:https://redbibliotecasmunicipalesbadajoz.es/evento/taller-informatica-basica-para-ninos-agencia-lectura-alvarado/
LOCATION:Agencia de Lectura Alvarado\, Plaza Mayor\, s/n\, Alvarado (Badajoz)\, 06170\, Spain
END:VEVENT
END:VCALENDAR