BEGIN:VCALENDAR
VERSION:2.0
PRODID:-//redbibliotecasmunicipalesbadajoz.es - ECPv6.15.18//NONSGML v1.0//EN
CALSCALE:GREGORIAN
METHOD:PUBLISH
X-WR-CALNAME:redbibliotecasmunicipalesbadajoz.es
X-ORIGINAL-URL:https://redbibliotecasmunicipalesbadajoz.es
X-WR-CALDESC:Eventos para redbibliotecasmunicipalesbadajoz.es
REFRESH-INTERVAL;VALUE=DURATION:PT1H
X-Robots-Tag:noindex
X-PUBLISHED-TTL:PT1H
BEGIN:VTIMEZONE
TZID:Europe/Madrid
BEGIN:DAYLIGHT
TZOFFSETFROM:+0100
TZOFFSETTO:+0200
TZNAME:CEST
DTSTART:20240331T010000
END:DAYLIGHT
BEGIN:STANDARD
TZOFFSETFROM:+0200
TZOFFSETTO:+0100
TZNAME:CET
DTSTART:20241027T010000
END:STANDARD
BEGIN:DAYLIGHT
TZOFFSETFROM:+0100
TZOFFSETTO:+0200
TZNAME:CEST
DTSTART:20250330T010000
END:DAYLIGHT
BEGIN:STANDARD
TZOFFSETFROM:+0200
TZOFFSETTO:+0100
TZNAME:CET
DTSTART:20251026T010000
END:STANDARD
BEGIN:DAYLIGHT
TZOFFSETFROM:+0100
TZOFFSETTO:+0200
TZNAME:CEST
DTSTART:20260329T010000
END:DAYLIGHT
BEGIN:STANDARD
TZOFFSETFROM:+0200
TZOFFSETTO:+0100
TZNAME:CET
DTSTART:20261025T010000
END:STANDARD
END:VTIMEZONE
BEGIN:VEVENT
DTSTART;TZID=Europe/Madrid:20250926T173000
DTEND;TZID=Europe/Madrid:20250926T173000
DTSTAMP:20260422T104554
CREATED:20250915T072557Z
LAST-MODIFIED:20251008T072820Z
UID:1942-1758907800-1758907800@redbibliotecasmunicipalesbadajoz.es
SUMMARY:Taller Decora Tu Biblioteca – BPM Pardaleras
DESCRIPTION:Vente a nuestro taller y ayúdanos a decorar nuestra biblioteca. Apúntate ya\, plazas limitadas.\nhttps://forms.gle/BF6bHsaRVN1BA5WA8
URL:https://redbibliotecasmunicipalesbadajoz.es/evento/taller-decora-tu-biblioteca-bpm-pardaleras/
LOCATION:Biblioteca Pública Municipal Pardaleras\, Av. Antonio Cuéllar Grajera\, nº15\, Badajoz\, 06003\, Spain
END:VEVENT
BEGIN:VEVENT
DTSTART;TZID=Europe/Madrid:20250926T180000
DTEND;TZID=Europe/Madrid:20250926T180000
DTSTAMP:20260422T104554
CREATED:20250916T073202Z
LAST-MODIFIED:20251008T073400Z
UID:1946-1758909600-1758909600@redbibliotecasmunicipalesbadajoz.es
SUMMARY:Despide el Verano entre Manualidades Y Bocaditos Saludables – BPM Antonio Domínguez
DESCRIPTION: ¡Nos despedimos del verano con creatividad y sabor!\nEn la Biblioteca Antonio Domínguez los peques podrán fabricar sus propios gorros de cocinero y preparar bocaditos saludables en un divertido taller.\n Viernes 26 de septiembre · 18h\n Biblioteca Antonio Domínguez\nInscríbete aquí  https://forms.gle/5KuLWUs5uehy8pt16\n¡Un plan perfecto para disfrutar juntos! 
URL:https://redbibliotecasmunicipalesbadajoz.es/evento/despide-el-verano-entre-manualidades-y-bocaditos-saludables-bpm-antonio-dominguez/
LOCATION:Biblioteca Pública Municipal A. Domínguez\, C. Sebastián Montero Espinosa\, 84\, Badajoz\, 06010\, Spain
END:VEVENT
BEGIN:VEVENT
DTSTART;TZID=Europe/Madrid:20250926T180000
DTEND;TZID=Europe/Madrid:20250926T180000
DTSTAMP:20260422T104554
CREATED:20250922T074748Z
LAST-MODIFIED:20251008T074947Z
UID:1953-1758909600-1758909600@redbibliotecasmunicipalesbadajoz.es
SUMMARY:Taller de Arcilla fría – BPM Santa Isabel
DESCRIPTION: ¡Vuelven los talleres a la Biblioteca Santa Isabel! Damos comienzo el 26 de septiembre con un divertido Taller de Arcilla Fría\, donde los niños y niñas de 7 a 14 años podrán crear y moldear sus propios imanes y llaveros . Hora: 18:00 h Lugar: Biblioteca Santa Isabel ¡Las plazas son limitadas!No te quedes sin la tuya\, apúntate ya accediendo al siguiente enlace: https://forms.gle/445VfUbucHrRGJxD8Ven a disfrutar\, aprender y dar rienda suelta a tu creatividad.
URL:https://redbibliotecasmunicipalesbadajoz.es/evento/taller-de-arcilla-fria-bpm-santa-isabel/
LOCATION:Biblioteca Pública Municipal Santa Isabel\, C/ Valladolid nº 9\, Badajoz\, 06006\, Spain
END:VEVENT
END:VCALENDAR