BEGIN:VCALENDAR
VERSION:2.0
PRODID:-//redbibliotecasmunicipalesbadajoz.es - ECPv6.15.18//NONSGML v1.0//EN
CALSCALE:GREGORIAN
METHOD:PUBLISH
X-WR-CALNAME:redbibliotecasmunicipalesbadajoz.es
X-ORIGINAL-URL:https://redbibliotecasmunicipalesbadajoz.es
X-WR-CALDESC:Eventos para redbibliotecasmunicipalesbadajoz.es
REFRESH-INTERVAL;VALUE=DURATION:PT1H
X-Robots-Tag:noindex
X-PUBLISHED-TTL:PT1H
BEGIN:VTIMEZONE
TZID:Europe/Madrid
BEGIN:DAYLIGHT
TZOFFSETFROM:+0100
TZOFFSETTO:+0200
TZNAME:CEST
DTSTART:20240331T010000
END:DAYLIGHT
BEGIN:STANDARD
TZOFFSETFROM:+0200
TZOFFSETTO:+0100
TZNAME:CET
DTSTART:20241027T010000
END:STANDARD
BEGIN:DAYLIGHT
TZOFFSETFROM:+0100
TZOFFSETTO:+0200
TZNAME:CEST
DTSTART:20250330T010000
END:DAYLIGHT
BEGIN:STANDARD
TZOFFSETFROM:+0200
TZOFFSETTO:+0100
TZNAME:CET
DTSTART:20251026T010000
END:STANDARD
BEGIN:DAYLIGHT
TZOFFSETFROM:+0100
TZOFFSETTO:+0200
TZNAME:CEST
DTSTART:20260329T010000
END:DAYLIGHT
BEGIN:STANDARD
TZOFFSETFROM:+0200
TZOFFSETTO:+0100
TZNAME:CET
DTSTART:20261025T010000
END:STANDARD
END:VTIMEZONE
BEGIN:VEVENT
DTSTART;TZID=Europe/Madrid:20251020T190000
DTEND;TZID=Europe/Madrid:20251020T200000
DTSTAMP:20260422T104555
CREATED:20251015T180709Z
LAST-MODIFIED:20251021T123229Z
UID:2006-1760986800-1760990400@redbibliotecasmunicipalesbadajoz.es
SUMMARY:Encuentro con los mayores y los pequeños de Balboa - Agencia de Lectura Balboa
DESCRIPTION:El próximo lunes\, día 20 de octubre\, queremos celebrar un encuentro con los mayores y los pequeños de Balboa. ¿El lugar?\, será en nuestra biblioteca \, ¿la hora?\, a partir de las 19:00 horas \n\n\nNos gustaría contar contigo\, debatir sobre la infancia y la adolescencia de nuestros mayores y compararlas con las facilidades de las que disponen nuestros pequeños para aprender en el colegio y en casa \n\n\nAgradecemos la colaboración de la Asociación de Mayores de Balboa.\n\n\n¡Te esperamos!
URL:https://redbibliotecasmunicipalesbadajoz.es/evento/encuentro-con-los-mayores-y-los-pequenos-de-balboa-agencia-de-lectura-balboa/
LOCATION:Agencia de Lectura Balboa\, C/ Río\, 7\, Balboa (Badajoz)\, 06195\, Spain
END:VEVENT
END:VCALENDAR