BEGIN:VCALENDAR
VERSION:2.0
PRODID:-//redbibliotecasmunicipalesbadajoz.es - ECPv6.15.18//NONSGML v1.0//EN
CALSCALE:GREGORIAN
METHOD:PUBLISH
X-ORIGINAL-URL:https://redbibliotecasmunicipalesbadajoz.es
X-WR-CALDESC:Eventos para redbibliotecasmunicipalesbadajoz.es
REFRESH-INTERVAL;VALUE=DURATION:PT1H
X-Robots-Tag:noindex
X-PUBLISHED-TTL:PT1H
BEGIN:VTIMEZONE
TZID:Europe/Madrid
BEGIN:DAYLIGHT
TZOFFSETFROM:+0100
TZOFFSETTO:+0200
TZNAME:CEST
DTSTART:20240331T010000
END:DAYLIGHT
BEGIN:STANDARD
TZOFFSETFROM:+0200
TZOFFSETTO:+0100
TZNAME:CET
DTSTART:20241027T010000
END:STANDARD
BEGIN:DAYLIGHT
TZOFFSETFROM:+0100
TZOFFSETTO:+0200
TZNAME:CEST
DTSTART:20250330T010000
END:DAYLIGHT
BEGIN:STANDARD
TZOFFSETFROM:+0200
TZOFFSETTO:+0100
TZNAME:CET
DTSTART:20251026T010000
END:STANDARD
BEGIN:DAYLIGHT
TZOFFSETFROM:+0100
TZOFFSETTO:+0200
TZNAME:CEST
DTSTART:20260329T010000
END:DAYLIGHT
BEGIN:STANDARD
TZOFFSETFROM:+0200
TZOFFSETTO:+0100
TZNAME:CET
DTSTART:20261025T010000
END:STANDARD
END:VTIMEZONE
BEGIN:VEVENT
DTSTART;TZID=Europe/Madrid:20250701T110000
DTEND;TZID=Europe/Madrid:20250831T120000
DTSTAMP:20260422T110111
CREATED:20250807T070736Z
LAST-MODIFIED:20251008T071435Z
UID:1936-1751367600-1756641600@redbibliotecasmunicipalesbadajoz.es
SUMMARY:Talleres de Verano en la Biblioteca – BPM Antonio Domínguez
DESCRIPTION: ¡Este verano\, leer también es divertirse!Os recordamos que en agosto continúan los talleres gratuitos para niños y niñas de 6 a 12 años en la Biblioteca Antonio Domínguez. Talleres de lectura Repaso de lengua y literatura Refuerzo de inglés Del 1 de julio al 31 de agosto Martes y jueves\, de 11:00 a 12:30 h
URL:https://redbibliotecasmunicipalesbadajoz.es/evento/talleres-de-verano-en-la-biblioteca-bpm-antonio-dominguez/
LOCATION:Biblioteca Pública Municipal A. Domínguez\, C. Sebastián Montero Espinosa\, 84\, Badajoz\, 06010\, Spain
END:VEVENT
BEGIN:VEVENT
DTSTART;TZID=Europe/Madrid:20250801T113000
DTEND;TZID=Europe/Madrid:20250801T113000
DTSTAMP:20260422T110111
CREATED:20250801T090009Z
LAST-MODIFIED:20251007T103203Z
UID:1926-1754047800-1754047800@redbibliotecasmunicipalesbadajoz.es
SUMMARY:¿Pintamos la sal de colores? – BPM San Roque
DESCRIPTION:¿Pintamos la sal de colores? Lo único que necesitarás será traerte un tarro pequeño de cristal. El día 1 de agosto\, desarrollaremos nuestra creatividad con diseños chulísimos y veraniegos\, y lo mejor de todos\, es que ¡estaremos fresquitos!\n\n\n¡¡APÚNTATE!!\n\n\nhttps://forms.gle/mmgG5ZPpS5hxv5Gu8
URL:https://redbibliotecasmunicipalesbadajoz.es/evento/pintamos-la-sal-de-colores-bpm-san-roque/
LOCATION:Biblioteca Pública Municipal San Roque\, C. César Diez Vara\, 13\, Badajoz\, 06008\, Spain
END:VEVENT
END:VCALENDAR